BEGIN:VCALENDAR
VERSION:2.0
PRODID:-//Studium und Praxis e.V. - ECPv6.15.17.1//NONSGML v1.0//EN
CALSCALE:GREGORIAN
METHOD:PUBLISH
X-ORIGINAL-URL:https://studium-praxis.de
X-WR-CALDESC:Veranstaltungen für Studium und Praxis e.V.
REFRESH-INTERVAL;VALUE=DURATION:PT1H
X-Robots-Tag:noindex
X-PUBLISHED-TTL:PT1H
BEGIN:VTIMEZONE
TZID:Europe/Berlin
BEGIN:DAYLIGHT
TZOFFSETFROM:+0100
TZOFFSETTO:+0200
TZNAME:CEST
DTSTART:20250330T010000
END:DAYLIGHT
BEGIN:STANDARD
TZOFFSETFROM:+0200
TZOFFSETTO:+0100
TZNAME:CET
DTSTART:20251026T010000
END:STANDARD
BEGIN:DAYLIGHT
TZOFFSETFROM:+0100
TZOFFSETTO:+0200
TZNAME:CEST
DTSTART:20260329T010000
END:DAYLIGHT
BEGIN:STANDARD
TZOFFSETFROM:+0200
TZOFFSETTO:+0100
TZNAME:CET
DTSTART:20261025T010000
END:STANDARD
BEGIN:DAYLIGHT
TZOFFSETFROM:+0100
TZOFFSETTO:+0200
TZNAME:CEST
DTSTART:20270328T010000
END:DAYLIGHT
BEGIN:STANDARD
TZOFFSETFROM:+0200
TZOFFSETTO:+0100
TZNAME:CET
DTSTART:20271031T010000
END:STANDARD
END:VTIMEZONE
BEGIN:VEVENT
DTSTART;TZID=Europe/Berlin:20261127T090000
DTEND;TZID=Europe/Berlin:20261128T170000
DTSTAMP:20260421T232309
CREATED:20241019T133039Z
LAST-MODIFIED:20260421T174304Z
UID:6175-1795770000-1795885200@studium-praxis.de
SUMMARY:Traumjob oder nächste Gehaltsstufe?
DESCRIPTION:WER bin ich & WAS will ich & WIE kann ich souverän meinen Traumjob oder die nächste Gehaltsstufe bekommen?\n\nDer erste Eindruck ist entscheidet – Ob Persönlichkeitsprofil oder Vorstellungs- bzw. Verhandlungsgespräch\, es ist alles eine Frage der Übung\, Selbstreflexion und Autentizität.  \nGut zu wissen! – Das Seminar ist für Alumnis und Studenten. Es eignet sicher auch hervorragend zur Vorbereitung und Übung von Personalgesprächen\, Gehaltsverhandlungen\, Kritik- sowie Feedbackgesprächen. \nTag 1:  Was ist meine Eintrittskarte in den Traumberuf oder in die nächste Gehaltsstufe? \nAutentizität vs. Mainstream– eine autentische Bewerbung ist das Spiegelbild deiner Persönlichkeit in deinen Bewerbungsunterlagen UND in deinem persönlichen Auftritt im Bewerbungs- bzw. Personalgespräch. Auch Beförderungen und Gehaltsverhandlungen sind Bewerbungen im eigenen Unternehmensumfeld\, bei der du dich mit deinen Fähigkeiten und deinem Wissen gegenüber Kollegen bewerben und behaupten musst.  \n Das Ziel am ersten Seminartag ist\, dass du mehr Klarheit über dich selbst und deine Fähigkeiten erhälst\, um dein eigenes Profil (Persönlichkeit & Werte\, Qualifikationen\, Arbeitsweise\, Stärken & Schwächen usw.) zu schärfen. \nFolgende Fragen bearbeiten wir:  \n\npersönliche Fähigkeiten und Eigenschaften – „Wer bin ich?“\npersönliche Stärken – „Was zeichnet mich aus?“\nWünsche und Job-Kriterien – „Was begeistert mich beruflich?“\nHerausforderungen und Schwächen – „Wann komme ich ins Schwitzen?“\nUnternehmenskultur und Sprache – „Was verrät die Webseite über [m]ein Unternehmen?“\neigene Werte und Lebensmaxime – „Passe ich und meine Arbeitsweise zum Unternehmen?“\nIndividualität statt Perfektion – „Autentizität vs. Mainstream\, was will ich?“\n\nTag 2: Wissen ist gut\, aber Kompetenz zeigen ist besser!\nKompetenz durch Körpersprache und souveräne Antworten – Genau das üben wir mit dir am zweiten Tag. Ein souveränes (Vorstellungs-\, Gehalts- oder Personal-) Gespräch ist nicht so einfach\, wie es auf den ersten Blick erscheint. Spielerisch werden wir mit dir Beispielgespräche vorbereiten und mögliche Szenarien nachstellen\, um dir spielerisch die Nervosität zu nehmen. Durch konstruktive Rückmeldungen zum Gesprächsverlauf lernst du dich selbstständig zu reflektieren und verstehst was dir gut gelungen ist und wo bzw. wie du dich verbessern kannst. \nDas Ziel am zweiten Seminartag ist\, dass du im Gespräch deine Fähigkeiten sowie dein eigenes Profi (Persönlichkeit & Werte\, Qualifikationen\, Arbeitsweise\, Stärken & Schwächen usw.) kompetent durch Körpersprache und souveräne Antworten einbringst\, um deinen Traumberuf oder die nächste Gehaltsstufe zu erreichen. Wir drücken dir dabei unsere Daumen!  \n\n\n\n\nBusiness-Coach: Rudolf Hanke \n\n\n\n• Mit über 30 Jahren Coaching-Erfahrung bringt er sehr viel Wissen aus den Bereichen Bewerbungstraining und Persönlichkeitsentwicklung mit. \n\n\n\n•Als ehem. Versicherungsfachwirt / IHK Bremen kennt er sehr genau die mathemathische\, wirtschaftliche und lösungsorientierte Arbeitsweise. \n\n\n\n• Sein persönliches Motto: „Entwicklung geschieht immer!“ \n\n\n\n\n\n\n\n\n\n\n\n\n\n\n\nPersönlichkeits-Coach: Wibke-J. Richter  \n\n\n\n• Als Theaterdozentin und Impro-Comedy-Coach bringt Wibke sehr viel Wissen aus den Bereichen Persönlichkeitsentwicklung\, Improvisation und Körpersprache mit. \n\n\n\n•  In Ihren Coachings vermittelt Sie die Stärkung des Selbstbewusstseins\, eine ausdrucksstärkere Presents durch Körpersprache\, das Vertrauen in die eigenen Stärken und den Mut sowie die Neugier neue Wege zu gehen.    \n\n\n\n• Ihr persönliches Motto: „Immer wieder stehen wir vor persönlichen Herausforderungen im Leben. Ich begleite Sie ein Stück auf Ihrer Reise…“ \n\n\n\n\n\n\n\n\n\n\n\n\n\n\nDas Seminar wird als 2-Tagesseminar am 27. UND 28. November angeboten. \n\n\n\nZur Anmeldung einfach auf den folgenden Button klicken und deinen Namen an mich per Mail schicken.Bitte beachtete\, dass die Teilnahmegebühr für Nicht-SuP-Mitglieder 50 EUR beträgt. \n\n\n\n\n\n\nJETZT ANMELDEN
URL:https://studium-praxis.de/veranstaltung/traumjob-oder-naechste-gehaltsstufe/
CATEGORIES:Mentoring-Programm,Seminare/Präsentationen,Sonstige Veranstaltungen,WiMa-Kongress
ATTACH;FMTTYPE=image/jpeg:https://studium-praxis.de/wp-content/uploads/2022/03/8259.jpg
END:VEVENT
END:VCALENDAR